Package: BioNetStat Version: 1.22.0 Command: rm -rf BioNetStat.buildbin-libdir && mkdir BioNetStat.buildbin-libdir && /Users/biocbuild/BBS/utils/build-universal.sh BioNetStat_1.22.0.tar.gz /Library/Frameworks/R.framework/Resources/bin/R BioNetStat.buildbin-libdir StartedAt: 2024-04-18 08:25:53 -0400 (Thu, 18 Apr 2024) EndedAt: 2024-04-18 08:26:26 -0400 (Thu, 18 Apr 2024) EllapsedTime: 33.1 seconds RetCode: 0 Status: OK PackageFile: BioNetStat_1.22.0.tgz PackageFileSize: 3.009 MiB