Package: BasicSTARRseq Version: 1.30.0 Command: /Library/Frameworks/R.framework/Resources/bin/R CMD build --keep-empty-dirs --no-resave-data BasicSTARRseq StartedAt: 2024-04-16 13:51:24 -0400 (Tue, 16 Apr 2024) EndedAt: 2024-04-16 13:52:15 -0400 (Tue, 16 Apr 2024) EllapsedTime: 51.8 seconds RetCode: 0 Status: OK PackageFile: BasicSTARRseq_1.30.0.tar.gz PackageFileSize: 551.2 KiB