Package: BOBaFIT Version: 1.6.0 Command: rm -rf BOBaFIT.buildbin-libdir && mkdir BOBaFIT.buildbin-libdir && /Users/biocbuild/BBS/utils/build-universal.sh BOBaFIT_1.6.0.tar.gz /Library/Frameworks/R.framework/Resources/bin/R BOBaFIT.buildbin-libdir StartedAt: 2024-04-18 08:27:41 -0400 (Thu, 18 Apr 2024) EndedAt: 2024-04-18 08:29:02 -0400 (Thu, 18 Apr 2024) EllapsedTime: 81.0 seconds RetCode: 0 Status: OK PackageFile: BOBaFIT_1.6.0.tgz PackageFileSize: 2.445 MiB