Package: BASiCS Version: 2.14.0 Command: rm -rf BASiCS.buildbin-libdir && mkdir BASiCS.buildbin-libdir && /Users/biocbuild/BBS/utils/build-universal.sh BASiCS_2.14.0.tar.gz /Library/Frameworks/R.framework/Resources/bin/R BASiCS.buildbin-libdir StartedAt: 2024-04-18 08:18:13 -0400 (Thu, 18 Apr 2024) EndedAt: 2024-04-18 08:19:55 -0400 (Thu, 18 Apr 2024) EllapsedTime: 101.8 seconds RetCode: 0 Status: OK PackageFile: BASiCS_2.14.0.tgz PackageFileSize: 3.84 MiB