Package: AnnotationHub Version: 3.10.1 Command: /Library/Frameworks/R.framework/Resources/bin/R CMD INSTALL AnnotationHub StartedAt: 2024-04-16 12:54:54 -0400 (Tue, 16 Apr 2024) EndedAt: 2024-04-16 12:55:16 -0400 (Tue, 16 Apr 2024) EllapsedTime: 22.7 seconds RetCode: 0 Status: OK