Package: AnnotationHub Version: 3.10.1 Command: /Library/Frameworks/R.framework/Resources/bin/R CMD build --keep-empty-dirs --no-resave-data AnnotationHub StartedAt: 2024-04-16 13:24:58 -0400 (Tue, 16 Apr 2024) EndedAt: 2024-04-16 13:27:54 -0400 (Tue, 16 Apr 2024) EllapsedTime: 176.5 seconds RetCode: 0 Status: OK PackageFile: AnnotationHub_3.10.1.tar.gz PackageFileSize: 971.6 KiB