Package: AnnotationHub Version: 3.10.1 Command: rm -rf AnnotationHub.buildbin-libdir && mkdir AnnotationHub.buildbin-libdir && /Users/biocbuild/BBS/utils/build-universal.sh AnnotationHub_3.10.1.tar.gz /Library/Frameworks/R.framework/Resources/bin/R AnnotationHub.buildbin-libdir StartedAt: 2024-04-18 08:12:29 -0400 (Thu, 18 Apr 2024) EndedAt: 2024-04-18 08:12:59 -0400 (Thu, 18 Apr 2024) EllapsedTime: 30.5 seconds RetCode: 0 Status: OK PackageFile: AnnotationHub_3.10.1.tgz PackageFileSize: 1.248 MiB