Package: ASEB Version: 1.46.3 Command: rm -rf ASEB.buildbin-libdir && mkdir ASEB.buildbin-libdir && /Users/biocbuild/BBS/utils/build-universal.sh ASEB_1.46.3.tar.gz /Library/Frameworks/R.framework/Resources/bin/R ASEB.buildbin-libdir StartedAt: 2024-04-18 08:14:20 -0400 (Thu, 18 Apr 2024) EndedAt: 2024-04-18 08:14:32 -0400 (Thu, 18 Apr 2024) EllapsedTime: 11.5 seconds RetCode: 0 Status: OK PackageFile: ASEB_1.46.3.tgz PackageFileSize: 776.8 KiB