Package: ADAM Version: 1.18.0 Command: rm -rf ADAM.buildbin-libdir && mkdir ADAM.buildbin-libdir && /Users/biocbuild/BBS/utils/build-universal.sh ADAM_1.18.0.tar.gz /Library/Frameworks/R.framework/Resources/bin/R ADAM.buildbin-libdir StartedAt: 2024-04-18 08:07:20 -0400 (Thu, 18 Apr 2024) EndedAt: 2024-04-18 08:08:13 -0400 (Thu, 18 Apr 2024) EllapsedTime: 53.7 seconds RetCode: 0 Status: OK PackageFile: ADAM_1.18.0.tgz PackageFileSize: 396.1 KiB