Package: ABSSeq Version: 1.56.0 Command: /Library/Frameworks/R.framework/Resources/bin/R CMD INSTALL ABSSeq StartedAt: 2024-04-16 10:11:18 -0400 (Tue, 16 Apr 2024) EndedAt: 2024-04-16 10:11:24 -0400 (Tue, 16 Apr 2024) EllapsedTime: 6.0 seconds RetCode: 0 Status: OK