Package: ABSSeq Version: 1.56.0 Command: /Library/Frameworks/R.framework/Resources/bin/R CMD build --keep-empty-dirs --no-resave-data ABSSeq StartedAt: 2024-04-16 13:08:32 -0400 (Tue, 16 Apr 2024) EndedAt: 2024-04-16 13:10:14 -0400 (Tue, 16 Apr 2024) EllapsedTime: 101.2 seconds RetCode: 0 Status: OK PackageFile: ABSSeq_1.56.0.tar.gz PackageFileSize: 1.073 MiB