| Back to Long Tests report for BioC 3.18 |
This page was generated on 2023-12-09 21:30:03 -0500 (Sat, 09 Dec 2023).
| Hostname | OS | Arch (*) | R version | Installed pkgs |
|---|---|---|---|---|
| nebbiolo2 | Linux (Ubuntu 22.04.2 LTS) | x86_64 | 4.3.2 Patched (2023-11-13 r85521) -- "Eye Holes" | 4688 |
| palomino4 | Windows Server 2022 Datacenter | x64 | 4.3.2 (2023-10-31 ucrt) -- "Eye Holes" | 4439 |
| lconway | macOS 12.7.1 Monterey | x86_64 | 4.3.2 Patched (2023-11-01 r85457) -- "Eye Holes" | 4458 |
| Click on any hostname to see more info about the system (e.g. compilers) (*) as reported by 'uname -p', except on Windows and Mac OS X | ||||
| Package 10/30 | Hostname | OS / Arch | CHECK | |||||||
| biodbLipidmaps 1.8.0 (landing page) Pierrick Roger
| nebbiolo2 | Linux (Ubuntu 22.04.2 LTS) / x86_64 | OK | |||||||
| palomino4 | Windows Server 2022 Datacenter / x64 | OK | ||||||||
| lconway | macOS 12.7.1 Monterey / x86_64 | OK | ||||||||
|
To the developers/maintainers of the biodbLipidmaps package: - Use the following Renviron settings to reproduce errors and warnings. - If 'R CMD check' started to fail recently on the Linux builder(s) over a missing dependency, add the missing dependency to 'Suggests:' in your DESCRIPTION file. See Renviron.bioc for more information. |
| Package: biodbLipidmaps |
| Version: 1.8.0 |
| Command: /Library/Frameworks/R.framework/Resources/bin/R CMD build --keep-empty-dirs --no-resave-data --no-build-vignettes --no-manual biodbLipidmaps |
| StartedAt: 2023-12-09 11:00:23 -0500 (Sat, 09 Dec 2023) |
| EndedAt: 2023-12-09 11:00:32 -0500 (Sat, 09 Dec 2023) |
| EllapsedTime: 9.2 seconds |
| RetCode: 0 |
| Status: OK |
| PackageFile: biodbLipidmaps_1.8.0.tar.gz |
| PackageFileSize: 15.21 KiB |
############################################################################## ############################################################################## ### ### Running command: ### ### /Library/Frameworks/R.framework/Resources/bin/R CMD build --keep-empty-dirs --no-resave-data --no-build-vignettes --no-manual biodbLipidmaps ### ############################################################################## ############################################################################## * checking for file ‘biodbLipidmaps/DESCRIPTION’ ... OK * preparing ‘biodbLipidmaps’: * checking DESCRIPTION meta-information ... OK * checking for LF line-endings in source and make files and shell scripts * checking for empty or unneeded directories * building ‘biodbLipidmaps_1.8.0.tar.gz’