| Back to Long Tests report for BioC 3.18 |
This page was generated on 2024-04-13 23:55:01 -0400 (Sat, 13 Apr 2024).
| Hostname | OS | Arch (*) | R version | Installed pkgs |
|---|---|---|---|---|
| nebbiolo2 | Linux (Ubuntu 22.04.3 LTS) | x86_64 | 4.3.3 (2024-02-29) -- "Angel Food Cake" | 4675 |
| palomino4 | Windows Server 2022 Datacenter | x64 | 4.3.3 (2024-02-29 ucrt) -- "Angel Food Cake" | 4413 |
| merida1 | macOS 12.7.1 Monterey | x86_64 | 4.3.3 (2024-02-29) -- "Angel Food Cake" | 4436 |
| Click on any hostname to see more info about the system (e.g. compilers) (*) as reported by 'uname -p', except on Windows and Mac OS X | ||||
|
To the developers/maintainers of the biodbLipidmaps package: - Use the following Renviron settings to reproduce errors and warnings. - If 'R CMD check' started to fail recently on the Linux builder(s) over a missing dependency, add the missing dependency to 'Suggests:' in your DESCRIPTION file. See Renviron.bioc for more information. |
| Package 10/30 | Hostname | OS / Arch | CHECK | |||||||
| biodbLipidmaps 1.8.0 (landing page) Pierrick Roger
| nebbiolo2 | Linux (Ubuntu 22.04.3 LTS) / x86_64 | ERROR | |||||||
| palomino4 | Windows Server 2022 Datacenter / x64 | ERROR | ||||||||
| merida1 | macOS 12.7.1 Monterey / x86_64 | ERROR | ||||||||