Package: autonomics Version: 1.10.2 Command: /home/biocbuild/bbs-3.18-bioc/R/bin/R CMD check --test-dir=longtests --no-stop-on-test-error --no-codoc --no-examples --no-manual --ignore-vignettes --check-subdirs=no autonomics_1.10.2.tar.gz StartedAt: 2024-04-13 16:00:28 -0400 (Sat, 13 Apr 2024) EndedAt: 2024-04-13 16:03:14 -0400 (Sat, 13 Apr 2024) EllapsedTime: 166.5 seconds RetCode: 1 Status: ERROR CheckDir: autonomics.Rcheck Warnings: NA