Package: DropletUtils Version: 1.22.0 Command: /home/biocbuild/bbs-3.18-bioc/R/bin/R CMD build --keep-empty-dirs --no-resave-data --no-build-vignettes --no-manual DropletUtils StartedAt: 2023-12-09 11:00:15 -0500 (Sat, 09 Dec 2023) EndedAt: 2023-12-09 11:00:16 -0500 (Sat, 09 Dec 2023) EllapsedTime: 0.6 seconds RetCode: 0 Status: OK PackageFile: DropletUtils_1.22.0.tar.gz PackageFileSize: 120.6 KiB