Package: yarn Version: 1.28.0 Command: /home/biocbuild/bbs-3.18-bioc/R/bin/R CMD build --keep-empty-dirs --no-resave-data yarn StartedAt: 2024-04-15 19:47:20 -0400 (Mon, 15 Apr 2024) EndedAt: 2024-04-15 19:48:33 -0400 (Mon, 15 Apr 2024) EllapsedTime: 72.7 seconds RetCode: 0 Status: OK PackageFile: yarn_1.28.0.tar.gz PackageFileSize: 2.974 MiB