Package: xcms Version: 4.0.2 Command: /Library/Frameworks/R.framework/Resources/bin/R CMD INSTALL xcms StartedAt: 2024-04-15 16:15:19 -0400 (Mon, 15 Apr 2024) EndedAt: 2024-04-15 16:18:54 -0400 (Mon, 15 Apr 2024) EllapsedTime: 215.7 seconds RetCode: 0 Status: OK