Package: xcms Version: 4.0.2 Command: rm -rf xcms.buildbin-libdir && mkdir xcms.buildbin-libdir && /Users/biocbuild/BBS/utils/build-universal.sh xcms_4.0.2.tar.gz /Library/Frameworks/R.framework/Resources/bin/R xcms.buildbin-libdir StartedAt: 2024-04-16 12:57:01 -0400 (Tue, 16 Apr 2024) EndedAt: 2024-04-16 12:59:36 -0400 (Tue, 16 Apr 2024) EllapsedTime: 154.5 seconds RetCode: 0 Status: OK PackageFile: xcms_4.0.2.tgz PackageFileSize: 11.57 MiB