Package: uncoverappLib Version: 1.12.0 Command: /home/biocbuild/bbs-3.18-bioc/R/bin/R CMD INSTALL uncoverappLib StartedAt: 2024-04-15 15:46:29 -0400 (Mon, 15 Apr 2024) EndedAt: 2024-04-15 15:47:30 -0400 (Mon, 15 Apr 2024) EllapsedTime: 61.0 seconds RetCode: 0 Status: OK