Package: uncoverappLib Version: 1.12.0 Command: /home/biocbuild/bbs-3.18-bioc/R/bin/R CMD check --install=check:uncoverappLib.install-out.txt --library=/home/biocbuild/bbs-3.18-bioc/R/site-library --timings uncoverappLib_1.12.0.tar.gz StartedAt: 2024-04-16 05:01:26 -0400 (Tue, 16 Apr 2024) EndedAt: 2024-04-16 05:08:25 -0400 (Tue, 16 Apr 2024) EllapsedTime: 418.6 seconds RetCode: 0 Status: OK CheckDir: uncoverappLib.Rcheck Warnings: 0