Package: uncoverappLib Version: 1.12.0 Command: /home/biocbuild/bbs-3.18-bioc/R/bin/R CMD build --keep-empty-dirs --no-resave-data uncoverappLib StartedAt: 2024-04-15 19:41:30 -0400 (Mon, 15 Apr 2024) EndedAt: 2024-04-15 19:42:48 -0400 (Mon, 15 Apr 2024) EllapsedTime: 78.3 seconds RetCode: 0 Status: OK PackageFile: uncoverappLib_1.12.0.tar.gz PackageFileSize: 3.43 MiB