Package: uncoverappLib Version: 1.12.0 Command: /home/biocbuild/R/R-4.3.1/bin/R CMD build --keep-empty-dirs --no-resave-data uncoverappLib StartedAt: 2023-11-02 07:18:48 -0000 (Thu, 02 Nov 2023) EndedAt: 2023-11-02 07:20:40 -0000 (Thu, 02 Nov 2023) EllapsedTime: 111.3 seconds RetCode: 0 Status: OK PackageFile: uncoverappLib_1.12.0.tar.gz PackageFileSize: 3.457 MiB