Package: tscR Version: 1.11.1 Command: /home/biocbuild/bbs-3.18-bioc/R/bin/R CMD INSTALL tscR StartedAt: 2023-04-20 04:07:47 -0400 (Thu, 20 Apr 2023) EndedAt: 2023-04-20 04:07:47 -0400 (Thu, 20 Apr 2023) EllapsedTime: 0.7 seconds RetCode: 1 Status: ERROR