Package: treeio Version: 1.26.0 Command: rm -rf treeio.buildbin-libdir && mkdir treeio.buildbin-libdir && F:\biocbuild\bbs-3.18-bioc\R\bin\R.exe CMD INSTALL --build --library=treeio.buildbin-libdir treeio_1.26.0.tar.gz StartedAt: 2024-04-16 07:49:08 -0400 (Tue, 16 Apr 2024) EndedAt: 2024-04-16 07:49:22 -0400 (Tue, 16 Apr 2024) EllapsedTime: 14.0 seconds RetCode: 0 Status: OK PackageFile: treeio_1.26.0.zip PackageFileSize: 901.6 KiB