Package: transcriptogramer Version: 1.24.0 Command: rm -rf transcriptogramer.buildbin-libdir && mkdir transcriptogramer.buildbin-libdir && F:\biocbuild\bbs-3.18-bioc\R\bin\R.exe CMD INSTALL --build --library=transcriptogramer.buildbin-libdir transcriptogramer_1.24.0.tar.gz StartedAt: 2024-04-16 07:48:52 -0400 (Tue, 16 Apr 2024) EndedAt: 2024-04-16 07:49:34 -0400 (Tue, 16 Apr 2024) EllapsedTime: 42.1 seconds RetCode: 0 Status: OK PackageFile: transcriptogramer_1.24.0.zip PackageFileSize: 5.93 MiB