Package: transcriptogramer Version: 1.24.0 Command: /home/biocbuild/bbs-3.18-bioc/R/bin/R CMD check --install=check:transcriptogramer.install-out.txt --library=/home/biocbuild/bbs-3.18-bioc/R/site-library --timings transcriptogramer_1.24.0.tar.gz StartedAt: 2024-04-16 04:51:22 -0400 (Tue, 16 Apr 2024) EndedAt: 2024-04-16 05:19:11 -0400 (Tue, 16 Apr 2024) EllapsedTime: 1668.4 seconds RetCode: 0 Status: OK CheckDir: transcriptogramer.Rcheck Warnings: 0