Package: transcriptogramer Version: 1.24.0 Command: /home/biocbuild/bbs-3.18-bioc/R/bin/R CMD build --keep-empty-dirs --no-resave-data transcriptogramer StartedAt: 2024-04-15 19:37:53 -0400 (Mon, 15 Apr 2024) EndedAt: 2024-04-15 19:49:43 -0400 (Mon, 15 Apr 2024) EllapsedTime: 710.6 seconds RetCode: 0 Status: OK PackageFile: transcriptogramer_1.24.0.tar.gz PackageFileSize: 3.63 MiB