Package: topdownr Version: 1.24.0 Command: /home/biocbuild/bbs-3.18-bioc/R/bin/R CMD build --keep-empty-dirs --no-resave-data topdownr StartedAt: 2024-04-15 19:37:09 -0400 (Mon, 15 Apr 2024) EndedAt: 2024-04-15 19:38:11 -0400 (Mon, 15 Apr 2024) EllapsedTime: 62.0 seconds RetCode: 0 Status: OK PackageFile: topdownr_1.24.0.tar.gz PackageFileSize: 1.435 MiB