Package: tidybulk Version: 1.14.3 Command: /Library/Frameworks/R.framework/Resources/bin/R CMD build --keep-empty-dirs --no-resave-data tidybulk StartedAt: 2024-04-15 22:32:43 -0400 (Mon, 15 Apr 2024) EndedAt: 2024-04-15 22:35:38 -0400 (Mon, 15 Apr 2024) EllapsedTime: 175.2 seconds RetCode: 0 Status: OK PackageFile: tidybulk_1.14.3.tar.gz PackageFileSize: 3.113 MiB