Package: tidybulk Version: 1.14.3 Command: rm -rf tidybulk.buildbin-libdir && mkdir tidybulk.buildbin-libdir && /Users/biocbuild/BBS/utils/build-universal.sh tidybulk_1.14.3.tar.gz /Library/Frameworks/R.framework/Resources/bin/R tidybulk.buildbin-libdir StartedAt: 2024-04-16 12:52:12 -0400 (Tue, 16 Apr 2024) EndedAt: 2024-04-16 12:54:04 -0400 (Tue, 16 Apr 2024) EllapsedTime: 111.8 seconds RetCode: 0 Status: OK PackageFile: tidybulk_1.14.3.tgz PackageFileSize: 3.413 MiB