Package: tidySummarizedExperiment Version: 1.12.0 Command: /home/biocbuild/bbs-3.18-bioc/R/bin/R CMD check --install=check:tidySummarizedExperiment.install-out.txt --library=/home/biocbuild/bbs-3.18-bioc/R/site-library --timings tidySummarizedExperiment_1.12.0.tar.gz StartedAt: 2024-04-16 04:44:21 -0400 (Tue, 16 Apr 2024) EndedAt: 2024-04-16 04:48:56 -0400 (Tue, 16 Apr 2024) EllapsedTime: 274.3 seconds RetCode: 0 Status: OK CheckDir: tidySummarizedExperiment.Rcheck Warnings: 0