Package: tidySingleCellExperiment Version: 1.12.0 Command: /Library/Frameworks/R.framework/Resources/bin/R CMD build --keep-empty-dirs --no-resave-data tidySingleCellExperiment StartedAt: 2024-03-03 18:35:14 -0500 (Sun, 03 Mar 2024) EndedAt: 2024-03-03 18:36:55 -0500 (Sun, 03 Mar 2024) EllapsedTime: 101.6 seconds RetCode: 0 Status: OK PackageFile: tidySingleCellExperiment_1.12.0.tar.gz PackageFileSize: 1.974 MiB