Package: srnadiff Version: 1.22.2 Command: /home/biocbuild/bbs-3.18-bioc/R/bin/R CMD INSTALL srnadiff StartedAt: 2024-04-15 15:33:57 -0400 (Mon, 15 Apr 2024) EndedAt: 2024-04-15 15:35:19 -0400 (Mon, 15 Apr 2024) EllapsedTime: 81.7 seconds RetCode: 0 Status: OK