Package: splineTimeR Version: 1.30.0 Command: /home/biocbuild/R/R-4.3.1/bin/R CMD build --keep-empty-dirs --no-resave-data splineTimeR StartedAt: 2023-11-02 06:42:21 -0000 (Thu, 02 Nov 2023) EndedAt: 2023-11-02 06:43:20 -0000 (Thu, 02 Nov 2023) EllapsedTime: 58.8 seconds RetCode: 0 Status: OK PackageFile: splineTimeR_1.30.0.tar.gz PackageFileSize: 1.212 MiB