Package: spatialDE Version: 1.8.1 Command: /home/biocbuild/bbs-3.18-bioc/R/bin/R CMD build --keep-empty-dirs --no-resave-data spatialDE StartedAt: 2024-04-15 19:21:37 -0400 (Mon, 15 Apr 2024) EndedAt: 2024-04-15 19:23:49 -0400 (Mon, 15 Apr 2024) EllapsedTime: 131.9 seconds RetCode: 0 Status: OK PackageFile: spatialDE_1.8.1.tar.gz PackageFileSize: 3.668 MiB