Package: single Version: 1.6.0 Command: /home/biocbuild/bbs-3.18-bioc/R/bin/R CMD build --keep-empty-dirs --no-resave-data single StartedAt: 2024-04-15 19:17:17 -0400 (Mon, 15 Apr 2024) EndedAt: 2024-04-15 19:18:36 -0400 (Mon, 15 Apr 2024) EllapsedTime: 78.8 seconds RetCode: 0 Status: OK PackageFile: single_1.6.0.tar.gz PackageFileSize: 1.391 MiB