Package: simplifyEnrichment Version: 1.12.0 Command: /home/biocbuild/R/R-4.3.1/bin/R CMD INSTALL simplifyEnrichment StartedAt: 2023-11-01 20:38:32 -0000 (Wed, 01 Nov 2023) EndedAt: 2023-11-01 20:39:04 -0000 (Wed, 01 Nov 2023) EllapsedTime: 31.8 seconds RetCode: 0 Status: OK