Package: sigsquared Version: 1.34.0 Command: /home/biocbuild/bbs-3.18-bioc/R/bin/R CMD build --keep-empty-dirs --no-resave-data sigsquared StartedAt: 2024-04-15 19:15:58 -0400 (Mon, 15 Apr 2024) EndedAt: 2024-04-15 19:16:20 -0400 (Mon, 15 Apr 2024) EllapsedTime: 21.6 seconds RetCode: 0 Status: OK PackageFile: sigsquared_1.34.0.tar.gz PackageFileSize: 339.5 KiB