Package: siggenes Version: 1.76.0 Command: /home/biocbuild/bbs-3.18-bioc/R/bin/R CMD build --keep-empty-dirs --no-resave-data siggenes StartedAt: 2024-04-15 19:15:32 -0400 (Mon, 15 Apr 2024) EndedAt: 2024-04-15 19:15:58 -0400 (Mon, 15 Apr 2024) EllapsedTime: 25.5 seconds RetCode: 0 Status: OK PackageFile: siggenes_1.76.0.tar.gz PackageFileSize: 513.5 KiB