Package: sigPathway Version: 1.67.1 Command: /home/biocbuild/bbs-3.18-bioc/R/bin/R CMD INSTALL sigPathway StartedAt: 2023-04-20 03:08:21 -0400 (Thu, 20 Apr 2023) EndedAt: 2023-04-20 03:08:23 -0400 (Thu, 20 Apr 2023) EllapsedTime: 2.0 seconds RetCode: 1 Status: ERROR