Package: sigFeature Version: 1.20.0 Command: rm -rf sigFeature.buildbin-libdir && mkdir sigFeature.buildbin-libdir && /Users/biocbuild/BBS/utils/build-universal.sh sigFeature_1.20.0.tar.gz /Library/Frameworks/R.framework/Resources/bin/R sigFeature.buildbin-libdir StartedAt: 2024-04-16 12:44:28 -0400 (Tue, 16 Apr 2024) EndedAt: 2024-04-16 12:45:20 -0400 (Tue, 16 Apr 2024) EllapsedTime: 52.0 seconds RetCode: 0 Status: OK PackageFile: sigFeature_1.20.0.tgz PackageFileSize: 501.6 KiB