Package: sevenC Version: 1.22.0 Command: /home/biocbuild/bbs-3.18-bioc/R/bin/R CMD build --keep-empty-dirs --no-resave-data sevenC StartedAt: 2024-04-15 19:14:18 -0400 (Mon, 15 Apr 2024) EndedAt: 2024-04-15 19:15:40 -0400 (Mon, 15 Apr 2024) EllapsedTime: 82.0 seconds RetCode: 0 Status: OK PackageFile: sevenC_1.22.0.tar.gz PackageFileSize: 1.932 MiB