Package: seqbias Version: 1.50.0 Command: /home/biocbuild/bbs-3.18-bioc/R/bin/R CMD build --keep-empty-dirs --no-resave-data seqbias StartedAt: 2024-04-15 19:12:23 -0400 (Mon, 15 Apr 2024) EndedAt: 2024-04-15 19:13:23 -0400 (Mon, 15 Apr 2024) EllapsedTime: 60.5 seconds RetCode: 0 Status: OK PackageFile: seqbias_1.50.0.tar.gz PackageFileSize: 701.4 KiB