Package: seqPattern Version: 1.34.0 Command: /Library/Frameworks/R.framework/Resources/bin/R CMD build --keep-empty-dirs --no-resave-data seqPattern StartedAt: 2024-04-15 21:54:39 -0400 (Mon, 15 Apr 2024) EndedAt: 2024-04-15 21:56:15 -0400 (Mon, 15 Apr 2024) EllapsedTime: 95.8 seconds RetCode: 0 Status: OK PackageFile: seqPattern_1.34.0.tar.gz PackageFileSize: 5.368 MiB