Package: seqPattern Version: 1.34.0 Command: /Library/Frameworks/R.framework/Resources/bin/R CMD build --keep-empty-dirs --no-resave-data seqPattern StartedAt: 2024-03-03 18:18:32 -0500 (Sun, 03 Mar 2024) EndedAt: 2024-03-03 18:19:17 -0500 (Sun, 03 Mar 2024) EllapsedTime: 44.7 seconds RetCode: 0 Status: OK PackageFile: seqPattern_1.34.0.tar.gz PackageFileSize: 5.368 MiB