Package: seqCNA Version: 1.48.0 Command: /home/biocbuild/bbs-3.18-bioc/R/bin/R CMD build --keep-empty-dirs --no-resave-data seqCNA StartedAt: 2024-04-15 19:12:53 -0400 (Mon, 15 Apr 2024) EndedAt: 2024-04-15 19:13:09 -0400 (Mon, 15 Apr 2024) EllapsedTime: 15.6 seconds RetCode: 0 Status: OK PackageFile: seqCNA_1.48.0.tar.gz PackageFileSize: 1.132 MiB