Package: seq.hotSPOT Version: 1.2.0 Command: /home/biocbuild/bbs-3.18-bioc/R/bin/R CMD INSTALL seq.hotSPOT StartedAt: 2024-04-15 15:09:40 -0400 (Mon, 15 Apr 2024) EndedAt: 2024-04-15 15:10:00 -0400 (Mon, 15 Apr 2024) EllapsedTime: 19.8 seconds RetCode: 0 Status: OK