Package: seq.hotSPOT Version: 1.2.0 Command: /home/biocbuild/bbs-3.18-bioc/R/bin/R CMD build --keep-empty-dirs --no-resave-data seq.hotSPOT StartedAt: 2024-04-15 19:12:06 -0400 (Mon, 15 Apr 2024) EndedAt: 2024-04-15 19:12:13 -0400 (Mon, 15 Apr 2024) EllapsedTime: 7.3 seconds RetCode: 0 Status: OK PackageFile: seq.hotSPOT_1.2.0.tar.gz PackageFileSize: 1.401 MiB