Package: segmenter Version: 1.8.0 Command: rm -rf segmenter.buildbin-libdir && mkdir segmenter.buildbin-libdir && F:\biocbuild\bbs-3.18-bioc\R\bin\R.exe CMD INSTALL --build --library=segmenter.buildbin-libdir segmenter_1.8.0.tar.gz StartedAt: 2024-04-16 07:40:09 -0400 (Tue, 16 Apr 2024) EndedAt: 2024-04-16 07:41:18 -0400 (Tue, 16 Apr 2024) EllapsedTime: 68.7 seconds RetCode: 0 Status: OK PackageFile: segmenter_1.8.0.zip PackageFileSize: 4.289 MiB