Package: sccomp Version: 1.6.0 Command: /Library/Frameworks/R.framework/Resources/bin/R CMD INSTALL sccomp StartedAt: 2024-03-03 15:22:44 -0500 (Sun, 03 Mar 2024) EndedAt: 2024-03-03 15:29:36 -0500 (Sun, 03 Mar 2024) EllapsedTime: 411.6 seconds RetCode: 0 Status: OK